BEGIN:VCALENDAR
VERSION:2.0
PRODID:-//Salsa &amp; Kizomba in Horb - ECPv6.7.0//NONSGML v1.0//EN
CALSCALE:GREGORIAN
METHOD:PUBLISH
X-WR-CALNAME:Salsa &amp; Kizomba in Horb
X-ORIGINAL-URL:http://salsa-horb.saltango.de
X-WR-CALDESC:Veranstaltungen für Salsa &amp; Kizomba in Horb
REFRESH-INTERVAL;VALUE=DURATION:PT1H
X-Robots-Tag:noindex
X-PUBLISHED-TTL:PT1H
BEGIN:VTIMEZONE
TZID:UTC
BEGIN:STANDARD
TZOFFSETFROM:+0000
TZOFFSETTO:+0000
TZNAME:UTC
DTSTART:20250101T000000
END:STANDARD
END:VTIMEZONE
BEGIN:VEVENT
DTSTART;TZID=UTC:20250227T193000
DTEND;TZID=UTC:20250227T213000
DTSTAMP:20260420T170418
CREATED:20250223T162918Z
LAST-MODIFIED:20250223T162951Z
UID:5257-1740684600-1740691800@salsa-horb.saltango.de
SUMMARY:Faschingsbedingt fällt Tanzen aus
DESCRIPTION:
URL:http://salsa-horb.saltango.de/event/faschingsbedingt-faellt-tanzen-ausd/
LOCATION:Kloster Horb\, Marktplatz 28\, 72160 Horb\, Marktplatz 28\, Horb am Neckar\, 72160\, Deutschland
CATEGORIES:Bachata Training
ATTACH;FMTTYPE=image/jpeg:http://salsa-horb.saltango.de/wp-content/uploads/2024/06/Sabaki.jpg
END:VEVENT
END:VCALENDAR