BEGIN:VCALENDAR
VERSION:2.0
PRODID:-//Salsa &amp; Kizomba in Horb - ECPv6.7.0//NONSGML v1.0//EN
CALSCALE:GREGORIAN
METHOD:PUBLISH
X-ORIGINAL-URL:http://salsa-horb.saltango.de
X-WR-CALDESC:Veranstaltungen für Salsa &amp; Kizomba in Horb
REFRESH-INTERVAL;VALUE=DURATION:PT1H
X-Robots-Tag:noindex
X-PUBLISHED-TTL:PT1H
BEGIN:VTIMEZONE
TZID:UTC
BEGIN:STANDARD
TZOFFSETFROM:+0000
TZOFFSETTO:+0000
TZNAME:UTC
DTSTART:20250101T000000
END:STANDARD
END:VTIMEZONE
BEGIN:VEVENT
DTSTART;TZID=UTC:20250320T193000
DTEND;TZID=UTC:20250320T210000
DTSTAMP:20260420T170752
CREATED:20250223T165957Z
LAST-MODIFIED:20250223T165957Z
UID:5296-1742499000-1742504400@salsa-horb.saltango.de
SUMMARY:Kizomba Training
DESCRIPTION:19.30 &#8211; ca. 21.00 Uhr Kiz-training mit Barbara \n21.00 &#8211; &#8230; Uhr freie Übungszeit  &#8211; „social Dance“ mit Bachata + Kizomba
URL:http://salsa-horb.saltango.de/event/kizomba-training/
LOCATION:Kloster Horb\, Marktplatz 28\, 72160 Horb\, Marktplatz 28\, Horb am Neckar\, 72160\, Deutschland
CATEGORIES:Kizomba Training
ATTACH;FMTTYPE=image/jpeg:http://salsa-horb.saltango.de/wp-content/uploads/2024/01/Logo-Kizomba-Trommel.jpg
END:VEVENT
END:VCALENDAR