BEGIN:VCALENDAR
VERSION:2.0
PRODID:-//Salsa &amp; Kizomba in Horb - ECPv6.7.0//NONSGML v1.0//EN
CALSCALE:GREGORIAN
METHOD:PUBLISH
X-WR-CALNAME:Salsa &amp; Kizomba in Horb
X-ORIGINAL-URL:http://salsa-horb.saltango.de
X-WR-CALDESC:Veranstaltungen für Salsa &amp; Kizomba in Horb
REFRESH-INTERVAL;VALUE=DURATION:PT1H
X-Robots-Tag:noindex
X-PUBLISHED-TTL:PT1H
BEGIN:VTIMEZONE
TZID:UTC
BEGIN:STANDARD
TZOFFSETFROM:+0000
TZOFFSETTO:+0000
TZNAME:UTC
DTSTART:20250101T000000
END:STANDARD
END:VTIMEZONE
BEGIN:VEVENT
DTSTART;TZID=UTC:20250325T190000
DTEND;TZID=UTC:20250325T200000
DTSTAMP:20260420T170543
CREATED:20250223T164707Z
LAST-MODIFIED:20250223T164707Z
UID:5272-1742929200-1742932800@salsa-horb.saltango.de
SUMMARY:Salsa Basic Übungsstunde
DESCRIPTION:19.00 – 20.00 Uhr Zeit zum Üben und Anwenden der Figuren und Kombinationen \nin Fortführung des Salsa Basic &#8211; Kurses
URL:http://salsa-horb.saltango.de/event/salsa-basic-uebungsstunde-4/
LOCATION:Kloster Horb\, Marktplatz 28\, 72160 Horb\, Marktplatz 28\, Horb am Neckar\, 72160\, Deutschland
CATEGORIES:Anfängerkurs
ATTACH;FMTTYPE=image/jpeg:http://salsa-horb.saltango.de/wp-content/uploads/2022/12/Logo-2022-salsa.jpg
END:VEVENT
BEGIN:VEVENT
DTSTART;TZID=UTC:20250325T200000
DTEND;TZID=UTC:20250325T213000
DTSTAMP:20260420T170543
CREATED:20250223T165529Z
LAST-MODIFIED:20250324T093222Z
UID:5287-1742932800-1742938200@salsa-horb.saltango.de
SUMMARY:Salsa Training Mittelstufe
DESCRIPTION:20 &#8211; ca. 21.30 uhr Salsa Training mit Thomas + Mery.\nSchwerpunkt Drehungen jeglicher Art\, insbesondere Doppel- und Mehrfachdrehungen.\nAnforderung Mittelstufe oder besser\nab 21.30 Uhr Übungszeit &#8211; &#8222;social dance&#8220;
URL:http://salsa-horb.saltango.de/event/salsa-training-mittelstufe-4/
LOCATION:Kloster Horb\, Marktplatz 28\, 72160 Horb\, Marktplatz 28\, Horb am Neckar\, 72160\, Deutschland
CATEGORIES:Salsa Training
ATTACH;FMTTYPE=image/jpeg:http://salsa-horb.saltango.de/wp-content/uploads/2022/12/Logo-2022-salsa.jpg
END:VEVENT
END:VCALENDAR