BEGIN:VCALENDAR
VERSION:2.0
PRODID:-//Salsa &amp; Kizomba in Horb - ECPv6.7.0//NONSGML v1.0//EN
CALSCALE:GREGORIAN
METHOD:PUBLISH
X-ORIGINAL-URL:http://salsa-horb.saltango.de
X-WR-CALDESC:Veranstaltungen für Salsa &amp; Kizomba in Horb
REFRESH-INTERVAL;VALUE=DURATION:PT1H
X-Robots-Tag:noindex
X-PUBLISHED-TTL:PT1H
BEGIN:VTIMEZONE
TZID:UTC
BEGIN:STANDARD
TZOFFSETFROM:+0000
TZOFFSETTO:+0000
TZNAME:UTC
DTSTART:20250101T000000
END:STANDARD
END:VTIMEZONE
BEGIN:VEVENT
DTSTART;TZID=UTC:20250408T190000
DTEND;TZID=UTC:20250408T200000
DTSTAMP:20260420T151128
CREATED:20250325T085303Z
LAST-MODIFIED:20250325T085303Z
UID:5342-1744138800-1744142400@salsa-horb.saltango.de
SUMMARY:Salsa Rueda Basic
DESCRIPTION:Salsa Rueda Basic\n19.00 – 20.00 Uhr\nFortführung Salsa Basic Schwerpunkt Rueda sowie\nZeit zum Üben und Anwenden der Figuren und Kombinationen
URL:http://salsa-horb.saltango.de/event/salsa-rueda-basic-2/
LOCATION:Kloster Horb\, Marktplatz 28\, 72160 Horb\, Marktplatz 28\, Horb am Neckar\, 72160\, Deutschland
CATEGORIES:Anfängerkurs
ATTACH;FMTTYPE=image/jpeg:http://salsa-horb.saltango.de/wp-content/uploads/2022/12/Logo-2022-salsa.jpg
END:VEVENT
BEGIN:VEVENT
DTSTART;TZID=UTC:20250408T200000
DTEND;TZID=UTC:20250408T213000
DTSTAMP:20260420T151128
CREATED:20250325T090547Z
LAST-MODIFIED:20250325T090547Z
UID:5360-1744142400-1744147800@salsa-horb.saltango.de
SUMMARY:Salsa Training Mittelstufe
DESCRIPTION:Salsa Training Mittelstufe Mit Jaqueline & Oli \n20 &#8211;  ca. 21.30 uhr Salsa Training\nAnforderung Mittelstufe oder besser\nab 21.30 Uhr Übungszeit &#8211; &#8222;social dance&#8220;
URL:http://salsa-horb.saltango.de/event/salsa-training-mittelstufe-6/
LOCATION:Kloster Horb\, Marktplatz 28\, 72160 Horb\, Marktplatz 28\, Horb am Neckar\, 72160\, Deutschland
CATEGORIES:Salsa Training
ATTACH;FMTTYPE=image/jpeg:http://salsa-horb.saltango.de/wp-content/uploads/2022/12/Logo-2022-salsa.jpg
END:VEVENT
END:VCALENDAR