BEGIN:VCALENDAR
VERSION:2.0
PRODID:-//Salsa &amp; Kizomba in Horb - ECPv6.7.0//NONSGML v1.0//EN
CALSCALE:GREGORIAN
METHOD:PUBLISH
X-WR-CALNAME:Salsa &amp; Kizomba in Horb
X-ORIGINAL-URL:http://salsa-horb.saltango.de
X-WR-CALDESC:Veranstaltungen für Salsa &amp; Kizomba in Horb
REFRESH-INTERVAL;VALUE=DURATION:PT1H
X-Robots-Tag:noindex
X-PUBLISHED-TTL:PT1H
BEGIN:VTIMEZONE
TZID:UTC
BEGIN:STANDARD
TZOFFSETFROM:+0000
TZOFFSETTO:+0000
TZNAME:UTC
DTSTART:20250101T000000
END:STANDARD
END:VTIMEZONE
BEGIN:VEVENT
DTSTART;TZID=UTC:20250415T190000
DTEND;TZID=UTC:20250415T200000
DTSTAMP:20260422T114044
CREATED:20250325T085453Z
LAST-MODIFIED:20250325T085453Z
UID:5345-1744743600-1744747200@salsa-horb.saltango.de
SUMMARY:Salsa Rueda Basic (im Steinhaus)
DESCRIPTION:Salsa Rueda Basic\n19.00 – 20.00 Uhr\nFortführung Salsa Basic Schwerpunkt Rueda sowie\nZeit zum Üben und Anwenden der Figuren und Kombinationen
URL:http://salsa-horb.saltango.de/event/salsa-rueda-basic-im-steinhaus/
LOCATION:72160 Horb\, Hirschgasse 8
CATEGORIES:Anfängerkurs
ATTACH;FMTTYPE=image/jpeg:http://salsa-horb.saltango.de/wp-content/uploads/2022/12/Logo-2022-salsa.jpg
END:VEVENT
BEGIN:VEVENT
DTSTART;TZID=UTC:20250415T200000
DTEND;TZID=UTC:20250415T200000
DTSTAMP:20260422T114044
CREATED:20250325T090150Z
LAST-MODIFIED:20250325T090150Z
UID:5354-1744747200-1744747200@salsa-horb.saltango.de
SUMMARY:Salsa Rueda Training Mittelstufe
DESCRIPTION:Salsa Rueda Training Mittelstufe \n20.00 &#8211; 21-30 h Rueda Training Mittelstufe\ngute Salsa Grundkenntnisse sowie Rueda-Erfahrung wird vorausgesetzt
URL:http://salsa-horb.saltango.de/event/salsa-rueda-training-mittelstufe-2/
LOCATION:72160 Horb\, Hirschgasse 8
CATEGORIES:Salsa Training
ATTACH;FMTTYPE=image/jpeg:http://salsa-horb.saltango.de/wp-content/uploads/2022/12/Logo-2022-rueda.jpg
END:VEVENT
END:VCALENDAR