BEGIN:VCALENDAR
VERSION:2.0
PRODID:-//Salsa &amp; Kizomba in Horb - ECPv6.7.0//NONSGML v1.0//EN
CALSCALE:GREGORIAN
METHOD:PUBLISH
X-ORIGINAL-URL:http://salsa-horb.saltango.de
X-WR-CALDESC:Veranstaltungen für Salsa &amp; Kizomba in Horb
REFRESH-INTERVAL;VALUE=DURATION:PT1H
X-Robots-Tag:noindex
X-PUBLISHED-TTL:PT1H
BEGIN:VTIMEZONE
TZID:UTC
BEGIN:STANDARD
TZOFFSETFROM:+0000
TZOFFSETTO:+0000
TZNAME:UTC
DTSTART:20250101T000000
END:STANDARD
END:VTIMEZONE
BEGIN:VEVENT
DTSTART;TZID=UTC:20250628T200000
DTEND;TZID=UTC:20250629T020000
DTSTAMP:20260420T120400
CREATED:20250616T200256Z
LAST-MODIFIED:20250616T200256Z
UID:5460-1751140800-1751162400@salsa-horb.saltango.de
SUMMARY:Salsa im Kloster mit DJ GwadaDom und Rueda Workshop mit Salomon
DESCRIPTION:Am 28. Juni freuen wir uns nach langer Pause auf Salomon. Er zeigt uns in seinem Workshop eine kurze Partnerwork Kombi\, bevor es anschließend in die Rueda de Casino Kommandos geht. Im Anschluss hört ihr DJ GwadaDom\, der mit Salsa\, Bachata und Kizomba für beste Musik sorgt. Wir freuen uns riesig auf seine fein abgestimmte Musik und seine symphathische Art. \n*** Programm ***\n20:00 – 21:30 Uhr: Kurze Salsa Partnerwork Kombi  (30 Minuten)\, anschließend Rueda de Casino (1 Stunde) mit Salomon\nWorkshop Level &#8211; Mittelstufe (Rueda Basics müssen vorhanden sein\, es werden keine Rueda Basics gezeigt) \n21:30 – 02:00 Uhr: Salsaparty mit DJ GwadaDom und einem abwechslungsreichen Mix aus Salsa\, Bachata und Kizomba \n*** Preise ***\n1\,5 h Workshop: 15€ inkl. Partyeintritt (für Saltango-Mitglieder: 10€)\nNur Party: 5€ Eintritt \nEuer Saltango Team\nSaltango – Tango Argentino & Salsa Nagold e.V.
URL:http://salsa-horb.saltango.de/event/salsa-im-kloster-mit-dj-gwadadom-und-rueda-workshop-mit-salomon/
LOCATION:Kloster Horb\, Marktplatz 28\, 72160 Horb\, Marktplatz 28\, Horb am Neckar\, 72160\, Deutschland
CATEGORIES:Salsa Party
ATTACH;FMTTYPE=image/jpeg:http://salsa-horb.saltango.de/wp-content/uploads/2025/06/2025-06-28-Salsa-Salomon.jpg
END:VEVENT
END:VCALENDAR