BEGIN:VCALENDAR
VERSION:2.0
PRODID:-//Salsa &amp; Kizomba in Horb - ECPv6.7.0//NONSGML v1.0//EN
CALSCALE:GREGORIAN
METHOD:PUBLISH
X-WR-CALNAME:Salsa &amp; Kizomba in Horb
X-ORIGINAL-URL:http://salsa-horb.saltango.de
X-WR-CALDESC:Veranstaltungen fÃ¼r Salsa &amp; Kizomba in Horb
REFRESH-INTERVAL;VALUE=DURATION:PT1H
X-Robots-Tag:noindex
X-PUBLISHED-TTL:PT1H
BEGIN:VTIMEZONE
TZID:UTC
BEGIN:STANDARD
TZOFFSETFROM:+0000
TZOFFSETTO:+0000
TZNAME:UTC
DTSTART:20250101T000000
END:STANDARD
END:VTIMEZONE
BEGIN:VEVENT
DTSTART;TZID=UTC:20250304T190000
DTEND;TZID=UTC:20250304T200000
DTSTAMP:20260420T152516
CREATED:20250223T164215Z
LAST-MODIFIED:20250223T164215Z
UID:5263-1741114800-1741118400@salsa-horb.saltango.de
SUMMARY:Salsa Basic Ãœbungsstunde
DESCRIPTION:19.00 â€“ 20.00 Uhr \nZeit zum Ãœben und Anwenden der Figuren und Kombinationen \nin FortfÃ¼hrung des Salsa Basic &#8211; Kurses
URL:http://salsa-horb.saltango.de/event/salsa-basic-uebungsstunde/
LOCATION:Kloster Horb\, Marktplatz 28\, 72160 Horb\, Marktplatz 28\, Horb am Neckar\, 72160\, Deutschland
CATEGORIES:AnfÃ¤ngerkurs
ATTACH;FMTTYPE=image/jpeg:http://salsa-horb.saltango.de/wp-content/uploads/2022/12/Logo-2022-salsa.jpg
END:VEVENT
BEGIN:VEVENT
DTSTART;TZID=UTC:20250304T200000
DTEND;TZID=UTC:20250304T213000
DTSTAMP:20260420T152516
CREATED:20250223T164828Z
LAST-MODIFIED:20250223T165248Z
UID:5275-1741118400-1741123800@salsa-horb.saltango.de
SUMMARY:Rueda Training
DESCRIPTION:20.00 &#8211; 21-30 h \nRueda Training Mittelstufe\ngute Salsa Grundkenntnisse werden vorausgesetzt \nab 21.30 Uhr Ãœbungszeit &#8211; &#8222;social dance&#8220;
URL:http://salsa-horb.saltango.de/event/rueda-training-3/
LOCATION:Kloster Horb\, Marktplatz 28\, 72160 Horb\, Marktplatz 28\, Horb am Neckar\, 72160\, Deutschland
CATEGORIES:Rueda Training
ATTACH;FMTTYPE=image/jpeg:http://salsa-horb.saltango.de/wp-content/uploads/2022/12/Logo-2022-rueda.jpg
END:VEVENT
BEGIN:VEVENT
DTSTART;TZID=UTC:20250306T193000
DTEND;TZID=UTC:20250306T213000
DTSTAMP:20260420T152516
CREATED:20250223T165701Z
LAST-MODIFIED:20250223T165701Z
UID:5290-1741289400-1741296600@salsa-horb.saltango.de
SUMMARY:Bachata Training
DESCRIPTION:19.30 &#8211; ca. 21.00 Uhr Bachatatraining mit Thomas \n21.00 &#8211; &#8230; Uhr freie Ãœbungszeit Â &#8211; â€žsocial Danceâ€œ mit Bachata + Kizomba
URL:http://salsa-horb.saltango.de/event/bachata-training-4/
LOCATION:Kloster Horb\, Marktplatz 28\, 72160 Horb\, Marktplatz 28\, Horb am Neckar\, 72160\, Deutschland
CATEGORIES:Bachata Training
ATTACH;FMTTYPE=image/jpeg:http://salsa-horb.saltango.de/wp-content/uploads/2024/01/Logo-Trommel-Bachata-rot.jpg
END:VEVENT
BEGIN:VEVENT
DTSTART;TZID=UTC:20250311T190000
DTEND;TZID=UTC:20250311T200000
DTSTAMP:20260420T152516
CREATED:20250223T164434Z
LAST-MODIFIED:20250223T164434Z
UID:5266-1741719600-1741723200@salsa-horb.saltango.de
SUMMARY:Salsa Basic Ãœbungsstunde
DESCRIPTION:19.00 â€“ 20.00 Uhr \nZeit zum Ãœben und Anwenden der Figuren und Kombinationen \nin FortfÃ¼hrung des Salsa Basic &#8211; Kurses
URL:http://salsa-horb.saltango.de/event/salsa-basic-uebungsstunde-2/
LOCATION:Kloster Horb\, Marktplatz 28\, 72160 Horb\, Marktplatz 28\, Horb am Neckar\, 72160\, Deutschland
CATEGORIES:AnfÃ¤ngerkurs
ATTACH;FMTTYPE=image/jpeg:http://salsa-horb.saltango.de/wp-content/uploads/2022/12/Logo-2022-salsa.jpg
END:VEVENT
BEGIN:VEVENT
DTSTART;TZID=UTC:20250311T200000
DTEND;TZID=UTC:20250311T213000
DTSTAMP:20260420T152516
CREATED:20250223T165129Z
LAST-MODIFIED:20250223T165129Z
UID:5279-1741723200-1741728600@salsa-horb.saltango.de
SUMMARY:Salsa mit Piero
DESCRIPTION:20 &#8211;Â  ca. 21.30 Uhr Salsa Training \nAnforderung Mittelstufe oder besser \nab 21.30 Uhr Ãœbungszeit &#8211; &#8222;social dance&#8220;
URL:http://salsa-horb.saltango.de/event/salsa-mit-piero-2/
LOCATION:Kloster Horb\, Marktplatz 28\, 72160 Horb\, Marktplatz 28\, Horb am Neckar\, 72160\, Deutschland
CATEGORIES:Salsa Training
ATTACH;FMTTYPE=image/jpeg:http://salsa-horb.saltango.de/wp-content/uploads/2022/12/Logo-2022-salsa.jpg
END:VEVENT
BEGIN:VEVENT
DTSTART;TZID=UTC:20250313T193000
DTEND;TZID=UTC:20250313T210000
DTSTAMP:20260420T152516
CREATED:20250223T165816Z
LAST-MODIFIED:20250223T165816Z
UID:5293-1741894200-1741899600@salsa-horb.saltango.de
SUMMARY:Bachata Training
DESCRIPTION:  \n19.30 &#8211; ca. 21.00 Uhr Bachatatraining mit Barbara \n21.00 &#8211; &#8230; Uhr freie Ãœbungszeit Â &#8211; â€žsocial Danceâ€œ mit Bachata + Kizomba
URL:http://salsa-horb.saltango.de/event/bachata-training-5/
LOCATION:Kloster Horb\, Marktplatz 28\, 72160 Horb\, Marktplatz 28\, Horb am Neckar\, 72160\, Deutschland
CATEGORIES:Bachata Training
ATTACH;FMTTYPE=image/jpeg:http://salsa-horb.saltango.de/wp-content/uploads/2024/01/Logo-Trommel-Bachata-rot.jpg
END:VEVENT
BEGIN:VEVENT
DTSTART;TZID=UTC:20250318T190000
DTEND;TZID=UTC:20250318T200000
DTSTAMP:20260420T152516
CREATED:20250223T164546Z
LAST-MODIFIED:20250223T164546Z
UID:5269-1742324400-1742328000@salsa-horb.saltango.de
SUMMARY:Salsa Basic Ãœbungsstunde
DESCRIPTION:19.00 â€“ 20.00 Uhr \nZeit zum Ãœben und Anwenden der Figuren und Kombinationen \nin FortfÃ¼hrung des Salsa Basic &#8211; Kurses
URL:http://salsa-horb.saltango.de/event/salsa-basic-uebungsstunde-3/
LOCATION:Kloster Horb\, Marktplatz 28\, 72160 Horb\, Marktplatz 28\, Horb am Neckar\, 72160\, Deutschland
CATEGORIES:AnfÃ¤ngerkurs
ATTACH;FMTTYPE=image/jpeg:http://salsa-horb.saltango.de/wp-content/uploads/2022/12/Logo-2022-salsa.jpg
END:VEVENT
BEGIN:VEVENT
DTSTART;TZID=UTC:20250318T200000
DTEND;TZID=UTC:20250318T213000
DTSTAMP:20260420T152516
CREATED:20250223T165421Z
LAST-MODIFIED:20250312T102137Z
UID:5284-1742328000-1742333400@salsa-horb.saltango.de
SUMMARY:Salsa Training Mittelstufe
DESCRIPTION:20 &#8211; ca. 21.30 uhr Salsa Training mit Oli & Jaqueline\nAnforderung Mittelstufe oder besser\nab 21.30 Uhr Ãœbungszeit &#8211; &#8222;social dance&#8220;
URL:http://salsa-horb.saltango.de/event/salsa-training-mittelstufe-3/
LOCATION:Kloster Horb\, Marktplatz 28\, 72160 Horb\, Marktplatz 28\, Horb am Neckar\, 72160\, Deutschland
CATEGORIES:Salsa Training
ATTACH;FMTTYPE=image/jpeg:http://salsa-horb.saltango.de/wp-content/uploads/2022/12/Logo-2022-salsa.jpg
END:VEVENT
BEGIN:VEVENT
DTSTART;TZID=UTC:20250320T193000
DTEND;TZID=UTC:20250320T210000
DTSTAMP:20260420T152516
CREATED:20250223T165957Z
LAST-MODIFIED:20250223T165957Z
UID:5296-1742499000-1742504400@salsa-horb.saltango.de
SUMMARY:Kizomba Training
DESCRIPTION:19.30 &#8211; ca. 21.00 Uhr Kiz-training mit Barbara \n21.00 &#8211; &#8230; Uhr freie Ãœbungszeit Â &#8211; â€žsocial Danceâ€œ mit Bachata + Kizomba
URL:http://salsa-horb.saltango.de/event/kizomba-training/
LOCATION:Kloster Horb\, Marktplatz 28\, 72160 Horb\, Marktplatz 28\, Horb am Neckar\, 72160\, Deutschland
CATEGORIES:Kizomba Training
ATTACH;FMTTYPE=image/jpeg:http://salsa-horb.saltango.de/wp-content/uploads/2024/01/Logo-Kizomba-Trommel.jpg
END:VEVENT
BEGIN:VEVENT
DTSTART;TZID=UTC:20250322T200000
DTEND;TZID=UTC:20250323T020000
DTSTAMP:20260420T152516
CREATED:20250308T194746Z
LAST-MODIFIED:20250308T200230Z
UID:5318-1742673600-1742695200@salsa-horb.saltango.de
SUMMARY:Salsa im Kloster mit Salsa All-in-one Workshop
DESCRIPTION:Gerne begrÃ¼ÃŸen DJ MorÃ© zum ersten Mal bei uns in Horb und freuen uns auf seinen Mix aus Salsa\, Bachata und Kizomba. Im Vorfeld gibt&#8217;s einen Salsa Workshop &#8222;All-in-one&#8220; (Details untenstehend) im Niveau &#8222;leichte Mittelstufe&#8220;Â  Danach feiern wir dann gemeinsam auf der TanzflÃ¤che\, nachdem unsere Revivalparty im Januar so ein toller Erfolg war.\n\n*** Programm ***\n20:00 â€“ 21:30 Uhr: Salsa Cubana &#8222;All-in-one&#8220; Workshop by Silke & Thomas\n21:30 â€“ 02:00 Uhr: Salsaparty mit DJ MorÃ©: Salsa\, Bachata und Kizomba Mix\n\n&#8222;All-in-one Workshop&#8220; &#8211; Was ist das? Was euch erwartet:\n&#8211; AufwÃ¤rmen mit Footwork (Basis fÃ¼r den Workshop)\n&#8211; Refresher einer Basic-Figur mit Details &#8211; Master your basics!\n&#8211; Basicerweiterung (Partnerwork fÃ¼r Social Dance sowie ein neues Rueda-Kommando)\n&#8211; Anwendbares Styling im Solotanz und Partnerwork\, insbesondere fÃ¼r die Ladies (KEINE CHOREO!)\n&#8211; Abschluss des Workshops mit einer Rueda-Runde inkl. der neuen Elemente\n\nZiel des Workshops ist NICHT das Erlernen einer komplexen und langen Salsafigur. Mein Fokus liegt auf guten und sauberen Basics und deren einfachen Erweiterungen\, die jeder auf der TanzflÃ¤che anwenden kann. Die ausgewÃ¤hlte Basic-Figur wird uns durch den kompletten Workshop begleiten bis hin zur Rueda-Runde. AuÃŸerdem wird auch einiges fÃ¼r euch Ladies dabei sein\, das ihr auf der TanzflÃ¤che einsetzen kÃ¶nnt. KEINE Choreo zum auswendig lernen! Dabei reichen oft Kleinigkeiten\, um eurem Tanzen einen besonderen Ausdruck zu verleihen.\nWir schlieÃŸen den Workshop mit einer lockeren Ruederunde (wer mÃ¶chte) ab\, in der wir das Gelernte auch wieder einsetzen.\n\n*** Preise ***\nWorkshop 1\,5h + Party: 15â‚¬ (Saltango-Mitglieder 10 â‚¬) inkl. Party\nNur Party: 5â‚¬ Eintritt\n\nEuer Saltango Event Team\nSaltango â€“ Tango Argentino & Salsa Nagold e.V.
URL:http://salsa-horb.saltango.de/event/salsa-im-kloster-mit-salsa-all-in-one-workshop/
LOCATION:Kloster Horb\, Marktplatz 28\, 72160 Horb\, Marktplatz 28\, Horb am Neckar\, 72160\, Deutschland
CATEGORIES:Salsa Party
ATTACH;FMTTYPE=image/jpeg:http://salsa-horb.saltango.de/wp-content/uploads/2025/03/2025-03-22-Salsa.jpg
END:VEVENT
BEGIN:VEVENT
DTSTART;TZID=UTC:20250325T190000
DTEND;TZID=UTC:20250325T200000
DTSTAMP:20260420T152516
CREATED:20250223T164707Z
LAST-MODIFIED:20250223T164707Z
UID:5272-1742929200-1742932800@salsa-horb.saltango.de
SUMMARY:Salsa Basic Ãœbungsstunde
DESCRIPTION:19.00 â€“ 20.00 Uhr Zeit zum Ãœben und Anwenden der Figuren und Kombinationen \nin FortfÃ¼hrung des Salsa Basic &#8211; Kurses
URL:http://salsa-horb.saltango.de/event/salsa-basic-uebungsstunde-4/
LOCATION:Kloster Horb\, Marktplatz 28\, 72160 Horb\, Marktplatz 28\, Horb am Neckar\, 72160\, Deutschland
CATEGORIES:AnfÃ¤ngerkurs
ATTACH;FMTTYPE=image/jpeg:http://salsa-horb.saltango.de/wp-content/uploads/2022/12/Logo-2022-salsa.jpg
END:VEVENT
BEGIN:VEVENT
DTSTART;TZID=UTC:20250325T200000
DTEND;TZID=UTC:20250325T213000
DTSTAMP:20260420T152516
CREATED:20250223T165529Z
LAST-MODIFIED:20250324T093222Z
UID:5287-1742932800-1742938200@salsa-horb.saltango.de
SUMMARY:Salsa Training Mittelstufe
DESCRIPTION:20 &#8211; ca. 21.30 uhr Salsa Training mit Thomas + Mery.\nSchwerpunkt Drehungen jeglicher Art\, insbesondere Doppel- und Mehrfachdrehungen.\nAnforderung Mittelstufe oder besser\nab 21.30 Uhr Ãœbungszeit &#8211; &#8222;social dance&#8220;
URL:http://salsa-horb.saltango.de/event/salsa-training-mittelstufe-4/
LOCATION:Kloster Horb\, Marktplatz 28\, 72160 Horb\, Marktplatz 28\, Horb am Neckar\, 72160\, Deutschland
CATEGORIES:Salsa Training
ATTACH;FMTTYPE=image/jpeg:http://salsa-horb.saltango.de/wp-content/uploads/2022/12/Logo-2022-salsa.jpg
END:VEVENT
BEGIN:VEVENT
DTSTART;TZID=UTC:20250327T193000
DTEND;TZID=UTC:20250327T210000
DTSTAMP:20260420T152516
CREATED:20250223T170135Z
LAST-MODIFIED:20250324T093404Z
UID:5299-1743103800-1743109200@salsa-horb.saltango.de
SUMMARY:Bachata Training
DESCRIPTION:19.30 &#8211; ca. 21.00 Uhr Bachatatraining mit Bernd.\nBasic-Schrittschule sowie Wiederholung einer Kombination \n21.00 &#8211; &#8230; Uhr freie Ãœbungszeit Â &#8211; â€žsocial Danceâ€œ mit Bachata + Kizomba
URL:http://salsa-horb.saltango.de/event/bachata-training-6/
LOCATION:Kloster Horb\, Marktplatz 28\, 72160 Horb\, Marktplatz 28\, Horb am Neckar\, 72160\, Deutschland
CATEGORIES:Bachata Training
ATTACH;FMTTYPE=image/jpeg:http://salsa-horb.saltango.de/wp-content/uploads/2024/01/Logo-Trommel-Bachata-rot.jpg
END:VEVENT
END:VCALENDAR