BEGIN:VCALENDAR
VERSION:2.0
PRODID:-//Salsa &amp; Kizomba in Horb - ECPv6.7.0//NONSGML v1.0//EN
CALSCALE:GREGORIAN
METHOD:PUBLISH
X-ORIGINAL-URL:http://salsa-horb.saltango.de
X-WR-CALDESC:Veranstaltungen fÃ¼r Salsa &amp; Kizomba in Horb
REFRESH-INTERVAL;VALUE=DURATION:PT1H
X-Robots-Tag:noindex
X-PUBLISHED-TTL:PT1H
BEGIN:VTIMEZONE
TZID:UTC
BEGIN:STANDARD
TZOFFSETFROM:+0000
TZOFFSETTO:+0000
TZNAME:UTC
DTSTART:20250101T000000
END:STANDARD
END:VTIMEZONE
BEGIN:VEVENT
DTSTART;TZID=UTC:20250503T193000
DTEND;TZID=UTC:20250504T020000
DTSTAMP:20260420T120538
CREATED:20250416T195248Z
LAST-MODIFIED:20250416T195248Z
UID:5408-1746300600-1746324000@salsa-horb.saltango.de
SUMMARY:Salsa im Kloster mit Workshops by Meli & Leandro & DJ GwadaDom
DESCRIPTION:Am 3. Mai begrÃ¼ÃŸen wir sehr gerne wieder Leandro & Meli fÃ¼r zwei tolle Workshops. Wir beginnen mit einem Salsa Cubana Workshop und in der zweiten Stunde dÃ¼rfen wir uns auf Bachata freuen\, bevor DJ GwadaDom nach langer Zeit wieder bei uns auflegt. Wir freuen uns riesig auf seine fein abgestimmte Musik und seine symphathische Art. \n*** Programm ***\n19:30 â€“ 20:30 Uhr: Salsa Cubana Workshop &#8211; Mittelstufe \n20:30 &#8211; 21:30 Uhr: Bachata Workshop &#8211; Mittelstufe \n21:30 â€“ 02:00 Uhr: Salsaparty mit DJ GwadaDom und einem abwechslungsreichen Mix aus Salsa\, Bachata und Kizomba \n*** Preise ***\n2h Workshop: 20â‚¬ inkl. Partyeintritt (fÃ¼r Saltango-Mitglieder: 15â‚¬)\nNur Party: 5â‚¬ Eintritt \nEuer Saltango Event Team\nSaltango â€“ Tango Argentino & Salsa Nagold e.V.
URL:http://salsa-horb.saltango.de/event/salsa-im-kloster-mit-workshops-by-meli-leandro-dj-gwadadom/
LOCATION:Kloster Horb\, Marktplatz 28\, 72160 Horb\, Marktplatz 28\, Horb am Neckar\, 72160\, Deutschland
CATEGORIES:Salsa Party
ATTACH;FMTTYPE=image/jpeg:http://salsa-horb.saltango.de/wp-content/uploads/2025/04/2025-05-03-Salsa.jpg
END:VEVENT
BEGIN:VEVENT
DTSTART;TZID=UTC:20250506T190000
DTEND;TZID=UTC:20250506T200000
DTSTAMP:20260420T120538
CREATED:20250416T085055Z
LAST-MODIFIED:20250416T200205Z
UID:5401-1746558000-1746561600@salsa-horb.saltango.de
SUMMARY:Basic Intensiv-Refresher mit Silke
DESCRIPTION:19 &#8211; 20 Uhr Salsa Intensiv-Refresher: Vor allem geht Silke auf wichtige Details ein was FÃ¼hren und Folgend angeht
URL:http://salsa-horb.saltango.de/event/salsa-cuban-basic-mit-silke/
LOCATION:Kloster Horb\, Marktplatz 28\, 72160 Horb\, Marktplatz 28\, Horb am Neckar\, 72160\, Deutschland
CATEGORIES:Salsa Training
ATTACH;FMTTYPE=image/jpeg:http://salsa-horb.saltango.de/wp-content/uploads/2022/12/Logo-2022-salsa.jpg
END:VEVENT
BEGIN:VEVENT
DTSTART;TZID=UTC:20250506T200000
DTEND;TZID=UTC:20250506T213000
DTSTAMP:20260420T120538
CREATED:20250416T085417Z
LAST-MODIFIED:20250416T085417Z
UID:5404-1746561600-1746567000@salsa-horb.saltango.de
SUMMARY:Abteilungsversammlung
DESCRIPTION:20 &#8211; &#8230;.. open endÂ Â  Abteilungsversammlung mit Neuwahl Abteilungsleitung \n&#8230;&#8230;&#8230;.Â Â  ggfls noch Zeit fÃ¼r social dance SaBaKi
URL:http://salsa-horb.saltango.de/event/abteilungsversammlung/
LOCATION:Kloster Horb\, Marktplatz 28\, 72160 Horb\, Marktplatz 28\, Horb am Neckar\, 72160\, Deutschland
CATEGORIES:Salsa Training
ATTACH;FMTTYPE=image/jpeg:http://salsa-horb.saltango.de/wp-content/uploads/2024/06/Sabaki.jpg
END:VEVENT
BEGIN:VEVENT
DTSTART;TZID=UTC:20250508T193000
DTEND;TZID=UTC:20250508T220000
DTSTAMP:20260420T120538
CREATED:20250502T203308Z
LAST-MODIFIED:20250502T203308Z
UID:5418-1746732600-1746741600@salsa-horb.saltango.de
SUMMARY:Bachata Mittelstufe mit Thomas
DESCRIPTION:Bachata Training \n19.30 &#8211; ca. 21.00 Uhr Bachatatraining mit Thomas\n21.00 &#8211; &#8230; Uhr freie Ãœbungszeit &#8211; â€žsocial Danceâ€œ mit Bachata + Kizomba
URL:http://salsa-horb.saltango.de/event/bachata-mittelstufe-mit-thomas/
LOCATION:Kloster Horb\, Marktplatz 28\, 72160 Horb\, Marktplatz 28\, Horb am Neckar\, 72160\, Deutschland
CATEGORIES:Bachata Training
ATTACH;FMTTYPE=image/jpeg:http://salsa-horb.saltango.de/wp-content/uploads/2024/01/Logo-Trommel-Bachata-rot.jpg
END:VEVENT
BEGIN:VEVENT
DTSTART;TZID=UTC:20250513T190000
DTEND;TZID=UTC:20250513T223000
DTSTAMP:20260420T120538
CREATED:20250507T190721Z
LAST-MODIFIED:20250507T190721Z
UID:5433-1747162800-1747175400@salsa-horb.saltango.de
SUMMARY:Salsa mit Jean-Marie (AnfÃ¤nger + Mittelstufe)
DESCRIPTION:19:00 &#8211; 20:00 Uhr: Wiederholung AnfÃ¤ngerstufe \n20:00 &#8211; 21:00 Uhr: Mittelstufe \nab 21:00 Uhr: freies Tanzen
URL:http://salsa-horb.saltango.de/event/salsa-mit-jean-marie-anfaenger-mittelstufe/
LOCATION:Kloster Horb\, Marktplatz 28\, 72160 Horb\, Marktplatz 28\, Horb am Neckar\, 72160\, Deutschland
CATEGORIES:AnfÃ¤ngerkurs,Salsa Training
ATTACH;FMTTYPE=image/jpeg:http://salsa-horb.saltango.de/wp-content/uploads/2022/12/Logo-2022-salsa.jpg
END:VEVENT
BEGIN:VEVENT
DTSTART;TZID=UTC:20250513T193000
DTEND;TZID=UTC:20250513T230000
DTSTAMP:20260420T120538
CREATED:20250502T204451Z
LAST-MODIFIED:20250502T204451Z
UID:5430-1747164600-1747177200@salsa-horb.saltango.de
SUMMARY:Salsa Training
DESCRIPTION:19:30 &#8211; 21:00 Uhr: Salsa Training &#8211; Trainer wird noch genannt \nab 21 Uhr: freies Training
URL:http://salsa-horb.saltango.de/event/salsa-training-8/
LOCATION:Kloster Horb\, Marktplatz 28\, 72160 Horb\, Marktplatz 28\, Horb am Neckar\, 72160\, Deutschland
CATEGORIES:Salsa Training
ATTACH;FMTTYPE=image/jpeg:http://salsa-horb.saltango.de/wp-content/uploads/2022/12/Logo-2022-salsa.jpg
END:VEVENT
BEGIN:VEVENT
DTSTART;TZID=UTC:20250515T193000
DTEND;TZID=UTC:20250515T220000
DTSTAMP:20260420T120538
CREATED:20250502T203931Z
LAST-MODIFIED:20250502T203931Z
UID:5424-1747337400-1747346400@salsa-horb.saltango.de
SUMMARY:Kizomba Training
DESCRIPTION:19:30 &#8211; 21.00 Uhr :Â  Kizomba Mittelstufe mit Barbara \nab 21:00 Uhr: freies Training
URL:http://salsa-horb.saltango.de/event/kizomba-training-3/
LOCATION:Kloster Horb\, Marktplatz 28\, 72160 Horb\, Marktplatz 28\, Horb am Neckar\, 72160\, Deutschland
CATEGORIES:Kizomba Training
ATTACH;FMTTYPE=image/jpeg:http://salsa-horb.saltango.de/wp-content/uploads/2024/01/Logo-Kizomba-Trommel.jpg
END:VEVENT
BEGIN:VEVENT
DTSTART;TZID=UTC:20250520T190000
DTEND;TZID=UTC:20250520T223000
DTSTAMP:20260420T120538
CREATED:20250502T203744Z
LAST-MODIFIED:20250502T203744Z
UID:5421-1747767600-1747780200@salsa-horb.saltango.de
SUMMARY:Rueda Training mit Thomas
DESCRIPTION:19:00 &#8211; 20.00 Uhr :Â  Rueda AnfÃ¤nger mit Thomas \n19:00 &#8211; 20.00 Uhr :Â  Rueda Mittelstufe mit Thomas \n21.00 &#8211; &#8230; Uhr freie Ãœbungszeit
URL:http://salsa-horb.saltango.de/event/rueda-training-mit-thomas/
LOCATION:Kloster Horb\, Marktplatz 28\, 72160 Horb\, Marktplatz 28\, Horb am Neckar\, 72160\, Deutschland
CATEGORIES:Rueda Training
ATTACH;FMTTYPE=image/jpeg:http://salsa-horb.saltango.de/wp-content/uploads/2022/12/Logo-2022-rueda.jpg
END:VEVENT
BEGIN:VEVENT
DTSTART;TZID=UTC:20250522T193000
DTEND;TZID=UTC:20250522T220000
DTSTAMP:20260420T120538
CREATED:20250502T204120Z
LAST-MODIFIED:20250502T204120Z
UID:5427-1747942200-1747951200@salsa-horb.saltango.de
SUMMARY:Bachata Training mit Barbara
DESCRIPTION:19:30- 21.00 Uhr :Â  Bachata Mittelstufe mit Barbara \nab 21:00 Uhr: freies Training
URL:http://salsa-horb.saltango.de/event/bachata-training-mit-barbara-4/
LOCATION:Kloster Horb\, Marktplatz 28\, 72160 Horb\, Marktplatz 28\, Horb am Neckar\, 72160\, Deutschland
CATEGORIES:Bachata Training
ATTACH;FMTTYPE=image/jpeg:http://salsa-horb.saltango.de/wp-content/uploads/2024/01/Logo-Trommel-Bachata-rot.jpg
END:VEVENT
BEGIN:VEVENT
DTSTART;TZID=UTC:20250527T193000
DTEND;TZID=UTC:20250527T223000
DTSTAMP:20260420T120538
CREATED:20250507T191657Z
LAST-MODIFIED:20250507T195758Z
UID:5436-1748374200-1748385000@salsa-horb.saltango.de
SUMMARY:Workshop â€žCreate our futureâ€œ
DESCRIPTION:19:30 Uhr &#8211; nach Bedarf \nGrobe Agenda: \n  \n\nErÃ¶rtern unserer WÃ¼nsche/ BedÃ¼rfnisse\nWo wollen wir hin? Erarbeiten einer gemeinsamen Vision.\nWas lÃ¤uft gut / Was lÃ¤uft nicht gut?\nArbeiten in Gruppen: Trainerausbildung / Events / Ã–ffentlichkeitsarbeit\, Social Media\, ggfs. Tanzreisen\, etc. Â  Â &#8211; Ideen und VorschlÃ¤ge willkommen. Ziel: Bildung von Projektgruppen und Optimierung\nSonderthema: Umgang mit BelÃ¤stigung und zukÃ¼nftige Vorgehensweise\n\ngenauere Infos folgen
URL:http://salsa-horb.saltango.de/event/workshop-create-our-future/
LOCATION:Kloster Horb\, Marktplatz 28\, 72160 Horb\, Marktplatz 28\, Horb am Neckar\, 72160\, Deutschland
CATEGORIES:Salsa Training
ATTACH;FMTTYPE=image/jpeg:http://salsa-horb.saltango.de/wp-content/uploads/2022/07/Logo-2022.jpg
END:VEVENT
END:VCALENDAR